BEGIN:VCALENDAR
VERSION:2.0
PRODID:-//eCharge4Drivers - ECPv6.15.18//NONSGML v1.0//EN
CALSCALE:GREGORIAN
METHOD:PUBLISH
X-ORIGINAL-URL:https://echarge4drivers.eu
X-WR-CALDESC:Events for eCharge4Drivers
REFRESH-INTERVAL;VALUE=DURATION:PT1H
X-Robots-Tag:noindex
X-PUBLISHED-TTL:PT1H
BEGIN:VTIMEZONE
TZID:Europe/Paris
BEGIN:DAYLIGHT
TZOFFSETFROM:+0100
TZOFFSETTO:+0200
TZNAME:CEST
DTSTART:20190331T010000
END:DAYLIGHT
BEGIN:STANDARD
TZOFFSETFROM:+0200
TZOFFSETTO:+0100
TZNAME:CET
DTSTART:20191027T010000
END:STANDARD
BEGIN:DAYLIGHT
TZOFFSETFROM:+0100
TZOFFSETTO:+0200
TZNAME:CEST
DTSTART:20200329T010000
END:DAYLIGHT
BEGIN:STANDARD
TZOFFSETFROM:+0200
TZOFFSETTO:+0100
TZNAME:CET
DTSTART:20201025T010000
END:STANDARD
BEGIN:DAYLIGHT
TZOFFSETFROM:+0100
TZOFFSETTO:+0200
TZNAME:CEST
DTSTART:20210328T010000
END:DAYLIGHT
BEGIN:STANDARD
TZOFFSETFROM:+0200
TZOFFSETTO:+0100
TZNAME:CET
DTSTART:20211031T010000
END:STANDARD
END:VTIMEZONE
BEGIN:VEVENT
DTSTART;VALUE=DATE:20201117
DTEND;VALUE=DATE:20201121
DTSTAMP:20260420T114652
CREATED:20210517T224727Z
LAST-MODIFIED:20210517T225216Z
UID:2632-1605571200-1605916799@echarge4drivers.eu
SUMMARY:eCharge4Drivers at Effie Mobility 2020
DESCRIPTION:When: 17-20 November 2020. \nLearn about how eCharge4Drivers will improve the EV charging experience at Effie 2020 event. Join the project in a space that brings together companies and organisations that focus their efforts on promoting energy saving and efficiency\, and where the latest technological innovations and advances in this field\, and others as interesting as sustainable mobility\, will be presented. \nVisit us at EXPO HALL 1\, n. D41! \nClick here for more information about the event.
URL:https://echarge4drivers.eu/event/echarge4drivers-at-effie-mobility-2020/
CATEGORIES:echarge events
ATTACH;FMTTYPE=image/jpeg:https://echarge4drivers.eu/wp-content/uploads/2020/11/20-20.jpg
END:VEVENT
END:VCALENDAR