BEGIN:VCALENDAR
VERSION:2.0
PRODID:-//eCharge4Drivers - ECPv6.15.18//NONSGML v1.0//EN
CALSCALE:GREGORIAN
METHOD:PUBLISH
X-WR-CALNAME:eCharge4Drivers
X-ORIGINAL-URL:https://echarge4drivers.eu
X-WR-CALDESC:Events for eCharge4Drivers
REFRESH-INTERVAL;VALUE=DURATION:PT1H
X-Robots-Tag:noindex
X-PUBLISHED-TTL:PT1H
BEGIN:VTIMEZONE
TZID:Africa/Johannesburg
BEGIN:STANDARD
TZOFFSETFROM:+0200
TZOFFSETTO:+0200
TZNAME:SAST
DTSTART:20200101T000000
END:STANDARD
END:VTIMEZONE
BEGIN:VEVENT
DTSTART;TZID=Africa/Johannesburg:20210518T080000
DTEND;TZID=Africa/Johannesburg:20210518T170000
DTSTAMP:20260420T011914
CREATED:20210517T224615Z
LAST-MODIFIED:20210517T225205Z
UID:2630-1621324800-1621357200@echarge4drivers.eu
SUMMARY:Plug&Charge – We turn eMobility into a smart and secure ecosystem
DESCRIPTION:Certificates\, interfaces\, backends\, charging stations\, protocols\, and the newest EVs — how to streamline all this to unlock the potential of Plug&Charge? That’s where the Hubject – Plug&Charge webinar comes into play. We will discuss with all participants how to use our ISO 15118 and VDE Application Guide compliant Plug&Charge solutions for improving your business model. Learn more about how this secure and future-proof technology works and how to reduce hassle for EV drivers and make your EV charging business more profitable. Our Plug&Charge system enables you to gain a competitive edge in this fast-growing and dynamic market. It will help you to determine your strategic approach towards ISO 15118 and Plug&Charge. \nRegister for free and secure your spot.
URL:https://echarge4drivers.eu/event/plugcharge-we-turn-emobility-into-a-smart-and-secure-ecosystem/
CATEGORIES:echarge events
ATTACH;FMTTYPE=image/png:https://echarge4drivers.eu/wp-content/uploads/2020/11/November-10-2020-11_00-AM-12_00-PM-CET.png
END:VEVENT
END:VCALENDAR