BEGIN:VCALENDAR
VERSION:2.0
PRODID:-//eCharge4Drivers - ECPv6.15.18//NONSGML v1.0//EN
CALSCALE:GREGORIAN
METHOD:PUBLISH
X-WR-CALNAME:eCharge4Drivers
X-ORIGINAL-URL:https://echarge4drivers.eu
X-WR-CALDESC:Events for eCharge4Drivers
REFRESH-INTERVAL;VALUE=DURATION:PT1H
X-Robots-Tag:noindex
X-PUBLISHED-TTL:PT1H
BEGIN:VTIMEZONE
TZID:Europe/Paris
BEGIN:DAYLIGHT
TZOFFSETFROM:+0100
TZOFFSETTO:+0200
TZNAME:CEST
DTSTART:20200329T010000
END:DAYLIGHT
BEGIN:STANDARD
TZOFFSETFROM:+0200
TZOFFSETTO:+0100
TZNAME:CET
DTSTART:20201025T010000
END:STANDARD
BEGIN:DAYLIGHT
TZOFFSETFROM:+0100
TZOFFSETTO:+0200
TZNAME:CEST
DTSTART:20210328T010000
END:DAYLIGHT
BEGIN:STANDARD
TZOFFSETFROM:+0200
TZOFFSETTO:+0100
TZNAME:CET
DTSTART:20211031T010000
END:STANDARD
BEGIN:DAYLIGHT
TZOFFSETFROM:+0100
TZOFFSETTO:+0200
TZNAME:CEST
DTSTART:20220327T010000
END:DAYLIGHT
BEGIN:STANDARD
TZOFFSETFROM:+0200
TZOFFSETTO:+0100
TZNAME:CET
DTSTART:20221030T010000
END:STANDARD
END:VTIMEZONE
BEGIN:VEVENT
DTSTART;TZID=Europe/Paris:20210519T115000
DTEND;TZID=Europe/Paris:20210519T123000
DTSTAMP:20260420T012022
CREATED:20210517T222709Z
LAST-MODIFIED:20210517T225200Z
UID:2607-1621425000-1621427400@echarge4drivers.eu
SUMMARY:eCharge4Drivers at Autonomy Digital 2.0
DESCRIPTION:eCharge4Drivers is excited to be presenting the outcomes of its survey during Autonomy 2021. Join project Member Lieselot Vanhaverbeke (VUB) on May 19 during panel 3\, from 11:50 to 12:30 CET. \nClick here for more information on the event. \nRelated content: Design new charging systems with eCharge4Drivers
URL:https://echarge4drivers.eu/event/echarge4drivers-at-autonomy-digital-2-0/
LOCATION:Online\, France
CATEGORIES:echarge events
ATTACH;FMTTYPE=image/png:https://echarge4drivers.eu/wp-content/uploads/2021/04/httpsecharge4drivers.eu_.png
END:VEVENT
END:VCALENDAR