BEGIN:VCALENDAR
VERSION:2.0
PRODID:-//eCharge4Drivers - ECPv6.15.18//NONSGML v1.0//EN
CALSCALE:GREGORIAN
METHOD:PUBLISH
X-WR-CALNAME:eCharge4Drivers
X-ORIGINAL-URL:https://echarge4drivers.eu
X-WR-CALDESC:Events for eCharge4Drivers
REFRESH-INTERVAL;VALUE=DURATION:PT1H
X-Robots-Tag:noindex
X-PUBLISHED-TTL:PT1H
BEGIN:VTIMEZONE
TZID:Europe/Berlin
BEGIN:DAYLIGHT
TZOFFSETFROM:+0100
TZOFFSETTO:+0200
TZNAME:CEST
DTSTART:20190331T010000
END:DAYLIGHT
BEGIN:STANDARD
TZOFFSETFROM:+0200
TZOFFSETTO:+0100
TZNAME:CET
DTSTART:20191027T010000
END:STANDARD
BEGIN:DAYLIGHT
TZOFFSETFROM:+0100
TZOFFSETTO:+0200
TZNAME:CEST
DTSTART:20200329T010000
END:DAYLIGHT
BEGIN:STANDARD
TZOFFSETFROM:+0200
TZOFFSETTO:+0100
TZNAME:CET
DTSTART:20201025T010000
END:STANDARD
BEGIN:DAYLIGHT
TZOFFSETFROM:+0100
TZOFFSETTO:+0200
TZNAME:CEST
DTSTART:20210328T010000
END:DAYLIGHT
BEGIN:STANDARD
TZOFFSETFROM:+0200
TZOFFSETTO:+0100
TZNAME:CET
DTSTART:20211031T010000
END:STANDARD
END:VTIMEZONE
BEGIN:VTIMEZONE
TZID:Africa/Johannesburg
BEGIN:STANDARD
TZOFFSETFROM:+0200
TZOFFSETTO:+0200
TZNAME:SAST
DTSTART:20190101T000000
END:STANDARD
END:VTIMEZONE
BEGIN:VEVENT
DTSTART;TZID=Europe/Berlin:20201020T093000
DTEND;TZID=Europe/Berlin:20201020T113000
DTSTAMP:20260420T222129
CREATED:20210517T223657Z
LAST-MODIFIED:20210517T225227Z
UID:2617-1603186200-1603193400@echarge4drivers.eu
SUMMARY:eCharge4Drivers at the 18th European Week of Regions and Cities
DESCRIPTION:As the electrification in transport is taking off in the cities and regions\, we need to facilitate this development with a sustainable and long-term vision. The success of the e-mobility depends on multiple factors\, including the generation and provision of clean energy\, wider user-acceptance and large-scale deployment of green transport. With its prominent role in electric mobility\, eCharge4Drivers will be presented in a session that will aim at placing these factors into broader urban and peri-urban perspectives and present the solutions adopted in the EU-funded initiatives. It will showcase concrete cases and examples on how to overcome the common challenge in the electrification of urban transport through cooperation and networking of the European cities and regions. \nAgenda \n(10 min) Short overview of the main obstacles of the electrification in the urban areas \n(30 min) \nClean Mobile Energy (Interreg): presenting Smart Energy System integrating renewable Energy and Electric Vehicles \neCharge4Drivers (H2020): focusing on the users and substantially improve the EV charging experience within cities \nASSURED and SOLUTIONSPlus (H2020): addressing the integration of the e-vehicles and charging infrastructure into the urban areas \n(20 min) The floor is yours \nModerator: Sabina Asanova\, Senior Project Manager\, Polis\, Belgium. \nSpeakers: \n-Sergio Fernandez\, Head of the International Collaboration Projects department\, EMT Madrid\, Spain.\n-Angel Lopez\, Director of Electromobility Strategy\, Barcelona City Council\, Spain.\n-Peter Swart\, Policy Advisor Environment\, City of Arnhem\, Netherlands. \nMore information is available on the event’s official website. \n\nWatch LIVE: Coffee with Partners episode 3.  Meet the partners of the #EURegionsWeek 2020 with @EUinmyRegion and @EU_CoR!  Register here: https://t.co/uW6ldofTYL https://t.co/Fp5e36vJRU \n— EUinmyRegion🇪🇺 (@EUinmyRegion) September 7\, 2020
URL:https://echarge4drivers.eu/event/echarge4drivers-at-the-18th-european-week-of-regions-and-cities/
LOCATION:Online\, France
CATEGORIES:echarge events
ATTACH;FMTTYPE=image/png:https://echarge4drivers.eu/wp-content/uploads/2020/07/Untitled-design-4.png
END:VEVENT
BEGIN:VEVENT
DTSTART;TZID=Africa/Johannesburg:20201001T080000
DTEND;TZID=Africa/Johannesburg:20201002T170000
DTSTAMP:20260420T222129
CREATED:20210517T223941Z
LAST-MODIFIED:20210517T225230Z
UID:2620-1601539200-1601658000@echarge4drivers.eu
SUMMARY:EV Charging Infrastructure and Technology Expo VIRTUAL SUMMIT
DESCRIPTION:When: October 1\, from 9:10 to 9:30 CET and October 2\, from 10:45 to 11:15 CET\n\nJoin eCharge4Drivers for two days of discussions and presentations all focused on EV charging:\n\nOctober 1\, from 9:10 to 9:30 CET: Tune in for the keynote session titled “Improving the EV charging experience within cities and for longer trips: the eCharge4Drivers project”\, with Dr. Evangelia Portouli\, Senior Researcher\, Institute of Communication and Computer Systems (ICCS).\n\nOctober 2\, from 10:45 to 11:15 CET: Join the panel discussion hosted for EV Roaming policies and Project “eCharge4Drivers” with Philippe Vangeel – Secretary General\, AVERE\, Roland Ferwerda\, Managing Director\, NKL – Nationaal Kennisplatform Laadinfrastructuur\, Eric van Voorden – Chairman\, Dutch Organisation for Electric Transport (DOET)\,\nJulia Poliscanova – Director- Clean Vehicles & Emobility\, Transport and Environment\, Baerte De Brey – CIO\, Elaad.nl\, and Bert Klerk – Chairman\, National Agenda on Charging Infrastructure.\n\nThe Industry Forum organised by the EV Charging Infrastructure and Technology Expo gives an insight into how the industry is developing and implementing new technology into business solutions. Learn about strategies\, future plans\, industry expectations\, improving customer experience and enabling smart charging across all charging stations. Panel discussions and sessions by key industry leaders will emphasize on how to create new and innovative business models.\n\nMore information is available on the official event’s website.
URL:https://echarge4drivers.eu/event/ev-charging-infrastructure-and-technology-expo-virtual-summit/
LOCATION:Online\, France
CATEGORIES:echarge events
ATTACH;FMTTYPE=image/jpeg:https://echarge4drivers.eu/wp-content/uploads/2020/09/Untitled-design-18.jpg
END:VEVENT
END:VCALENDAR