BEGIN:VCALENDAR
VERSION:2.0
PRODID:-//eCharge4Drivers - ECPv6.15.18//NONSGML v1.0//EN
CALSCALE:GREGORIAN
METHOD:PUBLISH
X-ORIGINAL-URL:https://echarge4drivers.eu
X-WR-CALDESC:Events for eCharge4Drivers
REFRESH-INTERVAL;VALUE=DURATION:PT1H
X-Robots-Tag:noindex
X-PUBLISHED-TTL:PT1H
BEGIN:VTIMEZONE
TZID:Africa/Johannesburg
BEGIN:STANDARD
TZOFFSETFROM:+0200
TZOFFSETTO:+0200
TZNAME:SAST
DTSTART:20220101T000000
END:STANDARD
END:VTIMEZONE
BEGIN:VTIMEZONE
TZID:Europe/Brussels
BEGIN:DAYLIGHT
TZOFFSETFROM:+0100
TZOFFSETTO:+0200
TZNAME:CEST
DTSTART:20220327T010000
END:DAYLIGHT
BEGIN:STANDARD
TZOFFSETFROM:+0200
TZOFFSETTO:+0100
TZNAME:CET
DTSTART:20221030T010000
END:STANDARD
BEGIN:DAYLIGHT
TZOFFSETFROM:+0100
TZOFFSETTO:+0200
TZNAME:CEST
DTSTART:20230326T010000
END:DAYLIGHT
BEGIN:STANDARD
TZOFFSETFROM:+0200
TZOFFSETTO:+0100
TZNAME:CET
DTSTART:20231029T010000
END:STANDARD
BEGIN:DAYLIGHT
TZOFFSETFROM:+0100
TZOFFSETTO:+0200
TZNAME:CEST
DTSTART:20240331T010000
END:DAYLIGHT
BEGIN:STANDARD
TZOFFSETFROM:+0200
TZOFFSETTO:+0100
TZNAME:CET
DTSTART:20241027T010000
END:STANDARD
END:VTIMEZONE
BEGIN:VEVENT
DTSTART;VALUE=DATE:20230909
DTEND;VALUE=DATE:20230918
DTSTAMP:20260420T020557
CREATED:20230802T122546Z
LAST-MODIFIED:20230802T122546Z
UID:3490-1694217600-1694995199@echarge4drivers.eu
SUMMARY:87th Thessaloniki International Fair
DESCRIPTION:The Thessaloniki International Fair (TIF) is an established exhibition event in Greece. Since its start in 1926\, it has consistently showcased the developments and trends in both local and global entrepreneurship. Over nine days\, it hosts a diverse array of entertainment events catering to people of all ages. \nBeyond its exhibition role\, TIF serves as the yearly platform for Greece’s political leadership to engage with the public\, offering insights into the government’s forthcoming political and economic agenda for the upcoming year. \nLearn more about eCharge4Drivers at the 87th edition of this important exhibition at the ICCS stand. \nYou can find more information on the official website of the Thessaloniki International Fair.
URL:https://echarge4drivers.eu/event/87th-thessaloniki-international-fair/
LOCATION:Thessaloniki\, Greece
ATTACH;FMTTYPE=image/jpeg:https://echarge4drivers.eu/wp-content/uploads/2023/08/eC4D-at-87th-TIF.jpg
END:VEVENT
BEGIN:VEVENT
DTSTART;TZID=Africa/Johannesburg:20230915T133000
DTEND;TZID=Africa/Johannesburg:20230915T163000
DTSTAMP:20260420T020557
CREATED:20230802T123518Z
LAST-MODIFIED:20230912T123647Z
UID:3496-1694784600-1694795400@echarge4drivers.eu
SUMMARY:POLIS x TU/ecomotive
DESCRIPTION:eCharge4Drivers partner POLIS is organising an exciting joint event with TU/ecomotive. The event will serve as a platform to discuss the future of sustainable mobility\, including EU-projects like eCharge4Drivers\, and showcase new innovations in this field\, such as a sustainable concept car that lasts a lifetime developed by TU/ecomotive. Read more about the event and discover the agenda here and register here!
URL:https://echarge4drivers.eu/event/polis-x-tu-ecomotive/
LOCATION:POLIS Office\, Rue du Trône\, 98\, Brussels\, Belgium
ATTACH;FMTTYPE=image/png:https://echarge4drivers.eu/wp-content/uploads/2023/08/eC4D-at-POLIS-x-TUecomotive.png
END:VEVENT
BEGIN:VEVENT
DTSTART;VALUE=DATE:20230926
DTEND;VALUE=DATE:20230928
DTSTAMP:20260420T020557
CREATED:20230922T130349Z
LAST-MODIFIED:20230922T131150Z
UID:3539-1695686400-1695859199@echarge4drivers.eu
SUMMARY:AEC2023
DESCRIPTION:On 26 and 27 September\, AVERE\, the European Association for Electromobility\, will hold its e-mobility conference (AEC) in Utrecht\, the Netherlands. The conference will explore how to take e-mobility to the next level to boost the uptake of electric vehicles in Europe. Bringing together industry\, consumers\, and governments\, the discussions will cover five topics that will be the key enablers for the transition towards e-mobility: \n\nBeyond the plug\nClean Heavy-duty vehicles\nResilient Energy Infrastructure\nFuture-proof supply chain\nSkills for the future\n\nEvangelos Karfopoulos (ICCS) will represent eCharge4Drivers at the event. \nDiscover the programme of the event here.
URL:https://echarge4drivers.eu/event/aec2023/
LOCATION:Tivoli Vredenburg\, Utrecht\, Netherlands
ATTACH;FMTTYPE=image/jpeg:https://echarge4drivers.eu/wp-content/uploads/2023/09/eC4D-at-AEC2023-2.jpg
END:VEVENT
BEGIN:VEVENT
DTSTART;VALUE=DATE:20231024
DTEND;VALUE=DATE:20231027
DTSTAMP:20260420T020557
CREATED:20231011T094334Z
LAST-MODIFIED:20231011T094334Z
UID:3570-1698105600-1698364799@echarge4drivers.eu
SUMMARY:Global Mobility Call
DESCRIPTION:Taking place in Madrid from 24 to 26 October\, the Global Mobility Call is the only international event on Sustainable Mobility of People and Goods that connects all industries and stakeholders. Both private and public sectors will get to share experience\, best practices\, and knowledge\, discussing the latest innovative solutions and projects in sustainable mobility. \nFind out more about the project at the eCharge4Drivers stand. We look forward to seeing you there! \nFor more information on the event\, visit the official website.
URL:https://echarge4drivers.eu/event/global-mobility-call/
LOCATION:Madrid\, Spain
ATTACH;FMTTYPE=image/jpeg:https://echarge4drivers.eu/wp-content/uploads/2023/10/eC4D-at-global-mobility-call.jpg
END:VEVENT
BEGIN:VEVENT
DTSTART;TZID=Europe/Brussels:20231026T140000
DTEND;TZID=Europe/Brussels:20231026T150000
DTSTAMP:20260420T020557
CREATED:20230922T083034Z
LAST-MODIFIED:20231011T122045Z
UID:3548-1698328800-1698332400@echarge4drivers.eu
SUMMARY:SCALE/eCharge4Drivers webinar: Charging Ahead: Consumer Preferences\, Incentives and Motivations in Smart and V2X Charging
DESCRIPTION:eCharge4Drivers is co-organising a special webinar together with the SCALE project as part of the SCALE’s Summer Session. The webinar will focus on consumer preferences\, incentives and motivations in Smart and V2X Charging. \nBoth projects will exchange knowledge and insights from their respective work on key aspects to boost EV adoption\, including EV users’ needs\, concerns and expectations. The discussion between Ellen Hiep (SCALE project) and Evangelos Karfopoulos (eCharge4Drivers) will be moderated by Edwin Bestebreurtje (FIER). \nDon’t miss this unique opportunity and join us on Thursday 26 October from 14:00 to 15:00 CET! Register here
URL:https://echarge4drivers.eu/event/scale-echarge4drivers-webinar-charging-ahead-consumer-preferences-incentives-and-motivations-in-smart-and-v2x-charging/
ATTACH;FMTTYPE=image/jpeg:https://echarge4drivers.eu/wp-content/uploads/2023/09/eC4DSCALE-webinar.jpg
END:VEVENT
BEGIN:VEVENT
DTSTART;VALUE=DATE:20231129
DTEND;VALUE=DATE:20231201
DTSTAMP:20260420T020557
CREATED:20230607T124417Z
LAST-MODIFIED:20230607T124417Z
UID:3422-1701216000-1701388799@echarge4drivers.eu
SUMMARY:POLIS Conference 2023
DESCRIPTION:The Annual POLIS Conference is Europe’s leading sustainable urban mobility event\, providing an opportunity for cities and regions to showcase their transport achievements to a large audience of mobility experts\, practitioners\, and decision-makers from both the public and private sector. \nFind out more on the POLIS Conference website.
URL:https://echarge4drivers.eu/event/polis-conference-2023/
LOCATION:Leuven\, Leuven\, Belgium
ATTACH;FMTTYPE=image/jpeg:https://echarge4drivers.eu/wp-content/uploads/2023/06/POLIS-Conference-2023.jpg
END:VEVENT
BEGIN:VEVENT
DTSTART;TZID=Africa/Johannesburg:20231206T093000
DTEND;TZID=Africa/Johannesburg:20231206T160000
DTSTAMP:20260420T020557
CREATED:20231115T133200Z
LAST-MODIFIED:20231123T152739Z
UID:3589-1701855000-1701878400@echarge4drivers.eu
SUMMARY:EIG Workshop on Plug&Charge
DESCRIPTION:After a compelling External Interest Group (EIG) workshop in Barcelona last June\, eCharge4Drivers is hosting a new EIG workshop on 6 December in Brussels. It will include an engaging classroom session in the morning\, followed by a site visit in the afternoon to the Zellik demonstration site. \nThis upcoming workshop promises to be an exceptional opportunity for participants to immerse themselves in the intricacies of ISO15118 Plug&Charge technology. Throughout the event\, we will not only explore the nuances of the eCharge4Drivers strategy but also delve into the challenges and milestones encountered along the way. More than just a presentation\, this workshop is designed as an open forum\, inviting active participation and collaboration. It will provide a unique platform for attendees to gain deeper insights into the project’s work\, exchange innovative ideas\, and collectively contribute to making a meaningful impact in the realm of Plug&Charge technology. \nFind the agenda below: \n09:30 – 09:40 Welcome and agenda \n09:40 – 10:00 Introduction to the eC4D project and the EIG workshop & Demonstration \n10:00 – 12:00 Plug&Charge in eCharge4Drivers: \n\nWhat is PnC and how is it related to the ISO15118-2/-20\nWhich role does the PnC-ecosystem and the PKI play PnC feature: multi-contract handling.\nOverview on deployment status in Project and challenges encountered.\nLessons learned: OEMs\, CPOs\, eMSPs\, EV charger\nmanufacturer\n\n12:00 – 12:15 Coffee Break \n12:15 – 13:00 Q&A and discussion with participants \n13:00 – 14:00 Lunch and networking \n14:00 – 16:00 Travel to the Green Energy Park in Zellik for DC Plug&Charge demo \n16:00 End of workshop \nJoin us for this unique event! Please contact Pedro Gomes (PGomes@polisnetwork.eu) or Marina Martin Vilches (MMartin@polisnetwork.eu) by 1 December.
URL:https://echarge4drivers.eu/event/eig-workshop-on-plugcharge/
LOCATION:Brussels
ATTACH;FMTTYPE=image/jpeg:https://echarge4drivers.eu/wp-content/uploads/2023/11/eC4D-PnC-EIG-worksop-event.jpg
END:VEVENT
BEGIN:VEVENT
DTSTART;VALUE=DATE:20240415
DTEND;VALUE=DATE:20240419
DTSTAMP:20260420T020557
CREATED:20240319T105736Z
LAST-MODIFIED:20240319T112249Z
UID:3684-1713139200-1713484799@echarge4drivers.eu
SUMMARY:Transport Research Arena 2024
DESCRIPTION:This year\, the Transport Research Arena (TRA) will be held in Dublin\, Ireland\, from Monday 15 to Thursday 18 of April. This significant transport event in Europe provides a crucial platform for researchers\, policymakers\, and industry stakeholders to explore the latest advancements in the field and discuss how research and innovation are shaping the transport landscape. All modes of transport and facets of mobility will be addressed during this important 4-day event. \nParticipants will have the unique opportunity to learn more about eCharge4Drivers at the European Commission’s stand during the lunch time session ‘Towards zero emission vehicles: From batteries to demonstration‘. \nJoin us in Dublin and discover our latest developments! \n\nYou can find more information about TRA on the official website.
URL:https://echarge4drivers.eu/event/transport-research-arena-2024/
LOCATION:RDS\, Merrion Road\, Ballsbridge\, Dublin 4\, Ireland
ATTACH;FMTTYPE=image/jpeg:https://echarge4drivers.eu/wp-content/uploads/2024/03/TRA-2024-banner.jpg
END:VEVENT
BEGIN:VEVENT
DTSTART;VALUE=DATE:20240416
DTEND;VALUE=DATE:20240419
DTSTAMP:20260420T020557
CREATED:20240319T112228Z
LAST-MODIFIED:20240319T112228Z
UID:3690-1713225600-1713484799@echarge4drivers.eu
SUMMARY:SAE International WCX 2024
DESCRIPTION:The SAE WCX World Congress Experience offers a unique platform to discuss the latest developments of today’s mobility sector and the groundbreaking advancements shaping its future. Organised by SAE International\, event stands as a unique discussion forum for cutting-edge technology\, consumer insights\, regulatory frameworks\, and technical discussions spanning the entire spectrum of vehicles\, from hardware to software and beyond. \neCharge4Drivers partner University of Sussex will present a paper during the event titled ‘A Study of Charge Point Infrastructure Policies on EV Driver Satisfaction‘ on Wednesday 17 April at 3:30 pm\, as part of Session AE601 on Electric Infrastructure. \nCheck out the event website for more information.
URL:https://echarge4drivers.eu/event/sae-international-wcx-2024/
LOCATION:Detroit\, Detroit\, United States
ATTACH;FMTTYPE=image/jpeg:https://echarge4drivers.eu/wp-content/uploads/2024/03/SAE-WCX-2024-Detroit.jpg
END:VEVENT
BEGIN:VEVENT
DTSTART;VALUE=DATE:20240528
DTEND;VALUE=DATE:20240531
DTSTAMP:20260420T020557
CREATED:20240524T140245Z
LAST-MODIFIED:20240524T140245Z
UID:3734-1716854400-1717113599@echarge4drivers.eu
SUMMARY:Second CIVINET Greece-Cyprus Forum
DESCRIPTION:eCharge4Drivers will participate in the second CIVINET Forum\, organised by CIVINET Greece-Cyprus\, from 28 to 30 May. This three-day event\, themed “moving more sustainably\, making our lives better together” and inspired by the New European Bauhaus\, will gather over 500 professionals\, including politicians\, mobility practitioners\, researchers\, students\, industry representatives\, start-uppers\, civil society members\, creative artists\, and citizens. Participants can expect insightful discussions on sustainable mobility\, information session on EU funding tools\, a showcase of successful examples from Greece and Europe\, exhibition of innovative products and services\, among other many interesting topics! \neCharge4Drivers will presented during the second day of the event among a number of CIVITAS and EU-related projects in mobility. \nMore information and registration here.
URL:https://echarge4drivers.eu/event/second-civinet-greece-cyprus-forum/
LOCATION:Athens\, Greece
ATTACH;FMTTYPE=image/png:https://echarge4drivers.eu/wp-content/uploads/2024/05/second-civinet-forum.png
END:VEVENT
BEGIN:VEVENT
DTSTART;VALUE=DATE:20240916
DTEND;VALUE=DATE:20240921
DTSTAMP:20260420T020557
CREATED:20240628T085231Z
LAST-MODIFIED:20240628T085231Z
UID:3752-1726444800-1726876799@echarge4drivers.eu
SUMMARY:ITS World Congress 2024
DESCRIPTION:eCharge4Drivers is proud to participate in the prestigious ITS World Congress 2024\, held from 16 to 20 September in the United Arab Emirates. For the first time in the UAE\, this flagship event will unite experts\, policymakers\, and industry leaders under the theme “Mobility Driven by ITS” to explore the latest developments in mobility\, technology\, and innovation. \nThe ITS World Congress is a globally recognised platform that addresses critical issues in intelligent transport systems. Participants will engage in discussions that transcend local and national boundaries\, fostering a comprehensive dialogue on the future of smart mobility solutions. \neCharge4Drivers will be prominently featured at the Congress. The project will first be featured in TP 10 on Wednesday 18 September from 11:00 to 12:30\, with a paper presentation by POLIBA entitled ‘Enhancing EV user experience in eCharge4Drivers project: the case of the metropolitan city of Bari’. Later in the day\, from 14:00 to 15:30\, ICCS will represent the project in SIS 53 ‘How to find\, book\, and pay for EV charging? – Success stories and opportunities’. The session will explore the solutions to the challenges and opportunities for creating a user-friendly EV ecosystem. In addition\, participants will have the opportunity to find out more about eCharge4Drivers and its user-friendly EV charging solutions and services at the ERTICO stand (European Pavilion\, booth H7 B13). \n\nStay tuned for more exciting updates on the Congress and read more about the event here.
URL:https://echarge4drivers.eu/event/its-world-congress-2024/
LOCATION:Dubai\, United Arab Emirates
ATTACH;FMTTYPE=image/jpeg:https://echarge4drivers.eu/wp-content/uploads/2024/06/eC4D-ITS-World-Congress-Dubai.jpg
END:VEVENT
BEGIN:VEVENT
DTSTART;VALUE=DATE:20241107
DTEND;VALUE=DATE:20241108
DTSTAMP:20260420T020557
CREATED:20240919T062102Z
LAST-MODIFIED:20241106T110837Z
UID:3801-1730937600-1731023999@echarge4drivers.eu
SUMMARY:eCharge4Drivers Final Event: Solutions for Easy EV Charging
DESCRIPTION:Join us in Barcelona for the eCharge4Drivers Final Event! \nAfter four transformative years\, the eCharge4Drivers project is nearing its conclusion. We are excited to invite you to our Final Event\, which will be held in Barcelona on 7 November 2024. \nSince 2020\, our project partners have been working to revolutionise the Electric Vehicle (EV) charging landscape with innovative\, user-friendly solutions and services. These cutting-edge technologies have been tested across 10 demonstration sites in urban areas and interurban corridors\, ensuring interoperability and user acceptance. \nThis is your opportunity to explore the project’s key achievements and outcomes and gain valuable insights into the future of EV charging. The event will feature a full-day conference hosted at Barcelona City Council\, 240 Avinguda Diagonal. \nREGISTER NOW \nDownload the agenda here
URL:https://echarge4drivers.eu/event/echarge4drivers-final-event-solutions-for-easy-ev-charging/
LOCATION:Barcelona City Council\, 240 Avinguda Diagonal\, Barcelona\, Spain
CATEGORIES:echarge events
ATTACH;FMTTYPE=image/jpeg:https://echarge4drivers.eu/wp-content/uploads/2024/10/eC4D-final-event-banner.jpg
END:VEVENT
END:VCALENDAR